BEGIN:VCALENDAR
VERSION:2.0
PRODID:-//ChamberMaster//Event Calendar 2.0//EN
METHOD:PUBLISH
X-PUBLISHED-TTL:P3D
REFRESH-INTERVAL:P3D
CALSCALE:GREGORIAN
BEGIN:VEVENT
DTSTART:20090310T220000Z
DTEND:20090311T000000Z
X-MICROSOFT-CDO-ALLDAYEVENT:FALSE
SUMMARY:Relay for Life Committee Meeting & Team Captains' Meeting
DESCRIPTION:Relay For Life Committee and Team Captains' meetings for the upcoming event June 12 & 13\, 6am to Noon. The next meeting we will be going over the On-line database for raising money! We are looking for past teams to join this years event to celebrate Brunswicks Relay For Life 10th year!
X-ALT-DESC;FMTTYPE=text/html:<div>Relay For Life Committee and Team Captains' meetings for the upcoming event June 12 &amp\; 13\, 6am to Noon.</div><div>&nbsp\;</div><div>The next meeting we will be going over the On-line database for raising money!</div><div>&nbsp\;</div><div>We are looking for past teams to join this years event to celebrate Brunswicks Relay For Life 10th year!</div>
LOCATION:Brunswick Library
UID:e.160.792
SEQUENCE:3
DTSTAMP:20260426T021658Z
URL:https://members.nmccalliance.com/events/details/relay-for-life-committee-meeting-team-captains-meeting-03-10-2009-792
END:VEVENT

END:VCALENDAR
