BEGIN:VCALENDAR
VERSION:2.0
PRODID:-//ChamberMaster//Event Calendar 2.0//EN
METHOD:PUBLISH
X-PUBLISHED-TTL:P3D
REFRESH-INTERVAL:P3D
CALSCALE:GREGORIAN
BEGIN:VEVENT
DTSTART:20120110T130000Z
DTEND:20120110T220000Z
X-MICROSOFT-CDO-ALLDAYEVENT:FALSE
SUMMARY:Scratch & Dent Sale - The Home Depot
DESCRIPTION:Special Event for Contractors and Chamber Members!!\n\n\nCome in for terrific deals on some of our one of kind items.  Includes Scratch & Dent\, Special Order Returns or mis-orders\, and aged product that is looking to move out!\n\n\n\nGet a great deal for many easily repaired or specialty items.  Don't mind a scratch or two? We don't mind discounting it for you!\n\n\n\nEvent will be held next to the Pro Desk\, clearly marked as a Special Event!
X-ALT-DESC;FMTTYPE=text/html:<h1 style="text-align: center">\n	<span style="font-size: 22px"><span style="font-family: arial"><span style="color: #ff8c00">Special Event for Contractors and Chamber Members!!</span></span></span></h1>\n<br />\n<span style="font-size: 16px"><em>Come in for terrific deals on some of our one of kind items.&nbsp\; Includes Scratch &amp\; Dent\, Special Order Returns or mis-orders\, and aged product that is looking to move out!<br />\n<br />\nGet a great deal for many easily repaired or specialty items.&nbsp\; Don&#39\;t mind a scratch or two? We don&#39\;t mind discounting it for you!<br />\n<br />\nEvent will be held next to the Pro Desk\, clearly marked as a Special Event!&nbsp\;</em></span><br />\n<br />\n<br />\n
LOCATION:Home Depot Brunswick location only
UID:e.160.1702
SEQUENCE:3
DTSTAMP:20260423T070606Z
URL:https://members.nmccalliance.com/events/details/scratch-dent-sale-the-home-depot-01-10-2012-1702
END:VEVENT

END:VCALENDAR
