BEGIN:VCALENDAR
VERSION:2.0
PRODID:-//ChamberMaster//Event Calendar 2.0//EN
METHOD:PUBLISH
X-PUBLISHED-TTL:P3D
REFRESH-INTERVAL:P3D
CALSCALE:GREGORIAN
BEGIN:VEVENT
DTSTART:20090405T140000Z
DTEND:20090405T200000Z
X-MICROSOFT-CDO-ALLDAYEVENT:FALSE
SUMMARY:Scuba for Diabetes
DESCRIPTION:Dive for a good cause by participating in the 11th annual SCUBA FOR DIABETES presented by Verizon Wireless.This event will take plase on April 5\, 2009  from 10am to 4pm at Cleveland State University's Robert F. Busbey Natatorium.This event\, for certified scuba divers only\, features "pool puzzles."  Work by yourself or with a team to assemble a giant 220 piece puzzle underwater.  Aminimum donation of $100 is required to participate(due on the day of the event\, but additional pledges can be turned in up until May 18th)Participation will be limited to the first 200 divers (age 10 or older) with signed waivers and valid certification cards.
X-ALT-DESC;FMTTYPE=text/html:<p>Dive for a good cause by participating in the 11th annual SCUBA FOR DIABETES presented by Verizon Wireless.</p><p>This event will take plase on April 5\, 2009&nbsp\; from 10am to 4pm at Cleveland State University's Robert F. Busbey Natatorium.</p><p>This event\, for certified scuba divers only\, features &quot\;pool puzzles.&quot\;&nbsp\; Work by yourself or with a team to assemble a giant 220 piece puzzle underwater.&nbsp\; Aminimum donation of $100 is required to participate(due on the day of the event\, but additional pledges can be turned in up until May 18th)</p><p>Participation will be limited to the first 200 divers (age 10 or older) with signed waivers and valid certification cards.&nbsp\;</p><p>&nbsp\;</p>
LOCATION:
UID:e.160.796
SEQUENCE:3
DTSTAMP:20260425T231913Z
URL:https://members.nmccalliance.com/events/details/scuba-for-diabetes-04-05-2009-796
END:VEVENT

END:VCALENDAR
