BEGIN:VCALENDAR
VERSION:2.0
PRODID:-//ChamberMaster//Event Calendar 2.0//EN
METHOD:PUBLISH
X-PUBLISHED-TTL:P3D
REFRESH-INTERVAL:P3D
CALSCALE:GREGORIAN
BEGIN:VEVENT
DTSTART:20130918T153000Z
DTEND:20130918T173000Z
X-MICROSOFT-CDO-ALLDAYEVENT:FALSE
SUMMARY:September 2013 Networking Membership Meeting
DESCRIPTION:Healthcare Reform\n\n	\n\n	Are you having trouble understanding the Healthcare Reform Act... Attend the Chamber monthly meeting for a better understanding of the how's\, what's and when's. Steve Millard\, President/CEO of the Council of Smaller Enterprise will present a comprehensive look at the changes\, rules and deadlines.
X-ALT-DESC;FMTTYPE=text/html:<div style="text-align: center\;">\n	<strong style="font-family: Arial\; text-align: center\;"><span style="font-family: tahoma\, sans-serif\;">Healthcare Reform<br />\n	<br />\n	Are you having trouble understanding the&nbsp\;</span><span style="color: rgb(178\, 34\, 34)\;"><span style="font-family: tahoma\, sans-serif\;">Healthcare Reform Act</span></span><span style="font-family: tahoma\, sans-serif\;">... Attend the&nbsp\;Chamber monthly meeting for a better understanding of the how&#39\;s\, what&#39\;s and when&#39\;s. Steve Millard\, President/CEO&nbsp\;of the Council of Smaller Enterprise will present a comprehensive look at the changes\, rules and deadlines.</span></strong></div>\n
LOCATION:Winking Lizard 3634 Center Road (Buehler's Plaza) Brunswick\, Ohio 44212
UID:e.160.1967
SEQUENCE:3
DTSTAMP:20260421T233503Z
URL:https://members.nmccalliance.com/events/details/september-2013-networking-membership-meeting-09-18-2013-1967
END:VEVENT

END:VCALENDAR
