BEGIN:VCALENDAR
VERSION:2.0
PRODID:-//ChamberMaster//Event Calendar 2.0//EN
METHOD:PUBLISH
X-PUBLISHED-TTL:P3D
REFRESH-INTERVAL:P3D
CALSCALE:GREGORIAN
BEGIN:VEVENT
DTSTART:20111217T150000Z
DTEND:20111217T160000Z
X-MICROSOFT-CDO-ALLDAYEVENT:FALSE
SUMMARY:Simple Small Projects for a Holiday-Ready Home
DESCRIPTION:Add value and style to your home with easy projects\n\n\n\n	\n		\n			Discover how to set kitchen or bathroom tiles quickly and easily using SimpleMat\n	\n	\n		\n			Find out how to transform a room using Martha Stewart Living Specialty Finishes Paint and complete home craft projects using Martha Stewart Living Project Paints and Stencils\n	\n	\n		\n			Learn how to complete interior and exterior home projects using Glidden Trim & Door paint
X-ALT-DESC;FMTTYPE=text/html:<h2>\n	<u>Add value and style to your home with easy projects</u></h2>\n<br />\n<ul>\n	<li>\n		<h3>\n			Discover how to set kitchen or bathroom tiles quickly and easily using SimpleMat</h3>\n	</li>\n	<li>\n		<h3>\n			Find out how to transform a room using Martha Stewart Living Specialty Finishes Paint and complete home craft projects using Martha Stewart Living Project Paints and Stencils</h3>\n	</li>\n	<li>\n		<h3>\n			Learn how to complete interior and exterior home projects using Glidden Trim &amp\; Door paint</h3>\n	</li>\n</ul>\n
LOCATION:Brunswick Home Depot 3330 Center Road Brunswick\, OH 44212
UID:e.160.1696
SEQUENCE:3
DTSTAMP:20260423T100126Z
URL:https://members.nmccalliance.com/events/details/simple-small-projects-for-a-holiday-ready-home-12-17-2011-1696
END:VEVENT

END:VCALENDAR
