BEGIN:VCALENDAR
VERSION:2.0
PRODID:-//ChamberMaster//Event Calendar 2.0//EN
METHOD:PUBLISH
X-PUBLISHED-TTL:P3D
REFRESH-INTERVAL:P3D
CALSCALE:GREGORIAN
BEGIN:VEVENT
DTSTART:20111110T230000Z
DTEND:20111111T010000Z
X-MICROSOFT-CDO-ALLDAYEVENT:FALSE
SUMMARY:Small Business Workshop - November 2011
DESCRIPTION:Small meal and refreshments will be provided.\n\n\n\nParticipating Chambers: Berea\, Brunswick\, Middleburg Heights\, and Strongsville\n\n\n\nTopic: Recruiting the Best Employees\n\n\n\nSpeaker: Kenyon Mau of Human Capital Advisors\n\n\n\nSponsor: The Impact Group and Brunswick Area Chamber of Commerce
X-ALT-DESC;FMTTYPE=text/html:Small meal and refreshments will be provided.<br />\n<br />\nParticipating Chambers: Berea\, Brunswick\, Middleburg Heights\, and Strongsville<br />\n<br />\nTopic: Recruiting the Best Employees<br />\n<br />\nSpeaker: Kenyon Mau of Human Capital Advisors<br />\n<br />\nSponsor: The Impact Group and Brunswick Area Chamber of Commerce
LOCATION:Midpoint Campus Center 50 Pearl Rd.\, Ste 300 Brunswick\, OH 44212
UID:e.160.1683
SEQUENCE:3
DTSTAMP:20260423T103139Z
URL:https://members.nmccalliance.com/events/details/small-business-workshop-november-2011-11-10-2011-1683
END:VEVENT

END:VCALENDAR
