BEGIN:VCALENDAR
VERSION:2.0
PRODID:-//ChamberMaster//Event Calendar 2.0//EN
METHOD:PUBLISH
X-PUBLISHED-TTL:P3D
REFRESH-INTERVAL:P3D
CALSCALE:GREGORIAN
BEGIN:VEVENT
DTSTART:20111006T220000Z
DTEND:20111007T000000Z
X-MICROSOFT-CDO-ALLDAYEVENT:FALSE
SUMMARY:Small Business Workshop - October 2011
DESCRIPTION:Small meal and refreshments will be provided.\n\n\n\nParticipating Chambers: Berea\, Brunswick\, Middleburg Heights\, and Strongsville\n\n\n\nTopic: Your Small Business: Tomorrow\n\n\n\nSpeaker: Steve Millard\, President of COSE\n\n\n\nSponsor: Bier Haus
X-ALT-DESC;FMTTYPE=text/html:Small meal and refreshments will be provided.<br />\n<br />\nParticipating Chambers: Berea\, Brunswick\, Middleburg Heights\, and Strongsville<br />\n<br />\nTopic: Your Small Business: Tomorrow<br />\n<br />\nSpeaker: Steve Millard\, President of COSE<br />\n<br />\nSponsor: Bier Haus
LOCATION:Midpoint Campus Center 50 Pearl Rd.\, Ste 300 Brunswick\, OH 44212
UID:e.160.1680
SEQUENCE:3
DTSTAMP:20260423T113712Z
URL:https://members.nmccalliance.com/events/details/small-business-workshop-october-2011-10-06-2011-1680
END:VEVENT

END:VCALENDAR
