BEGIN:VCALENDAR
VERSION:2.0
PRODID:-//ChamberMaster//Event Calendar 2.0//EN
METHOD:PUBLISH
X-PUBLISHED-TTL:P3D
REFRESH-INTERVAL:P3D
CALSCALE:GREGORIAN
BEGIN:VEVENT
DTSTART:20211105T113000Z
DTEND:20211105T130000Z
X-MICROSOFT-CDO-ALLDAYEVENT:FALSE
SUMMARY:Smart Start: Conserving Cash: Actionable Ways to Run Your Business Efficiently
DESCRIPTION:Join Ryan Carlson\, from Carlson Financial Group\, for actionable ways to run your business more efficiently and conserve cash where possible. In this Smart Start session\, Ryan will discuss:\n\n \n\n\n	Employee Retention\n	Group Retirement and Benefit Plans\n	Inflation and Supply Chain Challenges\n	Government Programs\n	Managing Credit Cards\n	Business Resources\n	Improve Decision Making\n	Time\, Time Management\, and Organization\n	Taxes\n\n\n\n\nPlease join us on:\n\n \n\nDate:  Friday\, November 5th\n\nLocation: Cuyahoga Community College\, Brunswick University Center\n\n3605 Center Rd.\, Brunswick\n\nTime: 7:30-8AM for registration and light breakfast/Class 8-9AM\n\nRegister Here (Members Only)\n \n\nAbout the NMCCA Smart Start Series:\n\nOur Smart Start business training classes are designed to give members opportunities to learn essential business skills that will help grow their organization\, create efficiencies and maximize customer engagement. Each Smart Start begins early in the day and lasts no longer than 60 minutes.
X-ALT-DESC;FMTTYPE=text/html:<div background-color:="" color:="" helvetica="" segoe="" style="margin: 0px\; padding: 0px\; border: 0px\; font-variant-numeric: inherit\; font-variant-east-asian: inherit\; font-stretch: inherit\; font-size: 15px\; line-height: inherit\; font-family: " ui="" vertical-align:="" web="" west=""><br />\n<span style="font-family:arial\;"><span style="margin: 0px\; padding: 0px\; border: 0px\; font-style: inherit\; font-variant: inherit\; font-weight: inherit\; font-stretch: inherit\; font-size: 12pt\; line-height: inherit\; vertical-align: baseline\;">Join Ryan Carlson\, from Carlson Financial Group\, for actionable ways to run your business more efficiently and conserve cash where possible. In this Smart Start session\, Ryan will discuss:</span></span><br />\n&nbsp\;</div>\n\n<ul style="margin-bottom: 0in\; color: rgb(34\, 34\, 34)\; font-family: Arial\, Helvetica\, sans-serif\; font-size: small\; background-color: rgb(255\, 255\, 255)\; margin-top: 0in\;" type="disc">\n	<li class="x_m_768611445940848567MsoListParagraph" style="margin: 0in\; font-size: 11pt\; font-family: Calibri\, sans-serif\;"><span style="font-family:arial\;"><span style="margin: 0px\; padding: 0px\; border: 0px\; font-style: inherit\; font-variant: inherit\; font-weight: inherit\; font-stretch: inherit\; font-size: 12pt\; line-height: inherit\; vertical-align: baseline\;">Employee Retention</span></span></li>\n	<li class="x_m_768611445940848567MsoListParagraph" style="margin: 0in\; font-size: 11pt\; font-family: Calibri\, sans-serif\;"><span style="font-family:arial\;"><span style="margin: 0px\; padding: 0px\; border: 0px\; font-style: inherit\; font-variant: inherit\; font-weight: inherit\; font-stretch: inherit\; font-size: 12pt\; line-height: inherit\; vertical-align: baseline\;">Group Retirement and Benefit Plans</span></span></li>\n	<li class="x_m_768611445940848567MsoListParagraph" style="margin: 0in\; font-size: 11pt\; font-family: Calibri\, sans-serif\;"><span style="font-family:arial\;"><span style="margin: 0px\; padding: 0px\; border: 0px\; font-style: inherit\; font-variant: inherit\; font-weight: inherit\; font-stretch: inherit\; font-size: 12pt\; line-height: inherit\; vertical-align: baseline\;">Inflation and Supply Chain Challenges</span></span></li>\n	<li class="x_m_768611445940848567MsoListParagraph" style="margin: 0in\; font-size: 11pt\; font-family: Calibri\, sans-serif\;"><span style="font-family:arial\;"><span style="margin: 0px\; padding: 0px\; border: 0px\; font-style: inherit\; font-variant: inherit\; font-weight: inherit\; font-stretch: inherit\; font-size: 12pt\; line-height: inherit\; vertical-align: baseline\;">Government Programs</span></span></li>\n	<li class="x_m_768611445940848567MsoListParagraph" style="margin: 0in\; font-size: 11pt\; font-family: Calibri\, sans-serif\;"><span style="font-family:arial\;"><span style="margin: 0px\; padding: 0px\; border: 0px\; font-style: inherit\; font-variant: inherit\; font-weight: inherit\; font-stretch: inherit\; font-size: 12pt\; line-height: inherit\; vertical-align: baseline\;">Managing Credit Cards</span></span></li>\n	<li class="x_m_768611445940848567MsoListParagraph" style="margin: 0in\; font-size: 11pt\; font-family: Calibri\, sans-serif\;"><span style="font-family:arial\;"><span style="margin: 0px\; padding: 0px\; border: 0px\; font-style: inherit\; font-variant: inherit\; font-weight: inherit\; font-stretch: inherit\; font-size: 12pt\; line-height: inherit\; vertical-align: baseline\;">Business Resources</span></span></li>\n	<li class="x_m_768611445940848567MsoListParagraph" style="margin: 0in\; font-size: 11pt\; font-family: Calibri\, sans-serif\;"><span style="font-family:arial\;"><span style="margin: 0px\; padding: 0px\; border: 0px\; font-style: inherit\; font-variant: inherit\; font-weight: inherit\; font-stretch: inherit\; font-size: 12pt\; line-height: inherit\; vertical-align: baseline\;">Improve Decision Making</span></span></li>\n	<li class="x_m_768611445940848567MsoListParagraph" style="margin: 0in\; font-size: 11pt\; font-family: Calibri\, sans-serif\;"><span style="font-family:arial\;"><span style="margin: 0px\; padding: 0px\; border: 0px\; font-style: inherit\; font-variant: inherit\; font-weight: inherit\; font-stretch: inherit\; font-size: 12pt\; line-height: inherit\; vertical-align: baseline\;">Time\, Time Management\, and Organization</span></span></li>\n	<li class="x_m_768611445940848567MsoListParagraph" style="margin: 0in\; font-size: 12pt\;"><span style="font-family:arial\;"><span style="margin: 0px\; padding: 0px\; border: 0px\; font-style: inherit\; font-variant: inherit\; font-weight: inherit\; font-stretch: inherit\; font-size: 12pt\; line-height: inherit\; vertical-align: baseline\;">Taxes</span></span></li>\n</ul>\n\n<div class="x_m_768611445940848567MsoListParagraph" style="margin: 0in\; font-size: 12pt\;"><br />\n<span style="font-family:arial\;"><span style="margin: 0px\; padding: 0px\; border: 0px\; font-style: inherit\; font-variant: inherit\; font-weight: inherit\; font-stretch: inherit\; font-size: 12pt\; line-height: inherit\; vertical-align: baseline\;">Please join us on:</span></span><br />\n&nbsp\;</div>\n\n<div class="x_m_768611445940848567MsoListParagraph" style="margin: 0in\; font-size: 12pt\; text-align: center\;"><span style="font-family:arial\;">Date:&nbsp\; Friday\, November 5th<br />\nLocation:&nbsp\;<span style="color: rgb(32\, 31\, 30)\; font-size: 14.6667px\; background-color: rgb(255\, 255\, 255)\;">Cuyahoga Community College\, Brunswick University Center</span><br />\n3605 Center Rd.\, Brunswick<br />\nTime: 7:30-8AM for registration and light breakfast/Class 8-9AM</span></div>\n\n<div class="x_m_768611445940848567MsoListParagraph" style="margin: 0in\; font-size: 12pt\; text-align: center\;"><a href="http://members.nmccalliance.com/events/details/smart-start-simple-ways-to-conserve-cash-2869?calendarMonth=2021-11-01">Register Here</a>&nbsp\;(Members Only)</div>\n&nbsp\;\n\n<div _mce_style="color: #000000\; font-size: 14pt\; font-family: Arial\, Helvetica\, sans-serif\; text-align: left\;" align="left" style="caret-color: rgb(0\, 0\, 0)\; font-family: Arial\, Helvetica\, sans-serif\; background-color: rgb(255\, 255\, 255)\; font-size: 14pt\;"><span style="font-family: verdana\;"><span style="font-size: 16px\;"><span _mce_style="text-decoration: underline\;" style="text-decoration-line: underline\;">About the NMCCA Smart Start Series:</span></span></span></div>\n\n<div _mce_style="font-family: Arial\, Helvetica\, sans-serif\; text-align: left\; color: #000000\; font-size: 18pt\;" align="left" style="caret-color: rgb(0\, 0\, 0)\; font-family: Arial\, Helvetica\, sans-serif\; font-size: 18pt\; background-color: rgb(255\, 255\, 255)\;"><span style="font-family: verdana\;"><span style="font-size: 14px\;"><span _mce_style="font-size: 14pt\;">Our Smart Start business training classes are designed to give members opportunities to learn essential business skills that will help grow&nbsp\;their organization\, create&nbsp\;</span><span _mce_style="font-size: 14pt\;">efficiencies</span><span _mce_style="font-size: 14pt\;">&nbsp\;and maximize customer&nbsp\;</span><span _mce_style="font-size: 14pt\;">engagement</span><span _mce_style="font-size: 14pt\;">. Each Smart Start begins early in the day and lasts no longer than 60 minutes.</span></span></span></div>\n
LOCATION:Cuyahoga Community College\, Brunswick University Center 3605 Center Rd. Brunswick
UID:e.160.2869
SEQUENCE:3
DTSTAMP:20260419T223540Z
URL:https://members.nmccalliance.com/events/details/smart-start-conserving-cash-actionable-ways-to-run-your-business-efficiently-2869
END:VEVENT

END:VCALENDAR
