BEGIN:VCALENDAR
VERSION:2.0
PRODID:-//ChamberMaster//Event Calendar 2.0//EN
METHOD:PUBLISH
X-PUBLISHED-TTL:P3D
REFRESH-INTERVAL:P3D
CALSCALE:GREGORIAN
BEGIN:VEVENT
DTSTART:20210305T130000Z
DTEND:20210305T140000Z
X-MICROSOFT-CDO-ALLDAYEVENT:FALSE
SUMMARY:Smart Start: Creating a great LinkedIn Business Page
DESCRIPTION:Leveraging LinkedIn for Business\n\n \n\nPlease join Training Specialist Dale Versteegen from Ohio Means Jobs\, as he guides us through practical steps for leveraging LinkedIn for business. As a professional social network\, LinkedIn is the ideal platform to build meaningful business connections and expand your company's online visibility. In this 1 hour free workshop via Zoom\, Dale will guide us through:   \n\n \n\n\n\n	Setting up a LinkedIn page for businesses\n	Building credibility online\n	Optimizing our outreach\n\n\n\n\nFREE Event via Zoom (link will be sent week of event date)\n\n \nAbout the NMCCA Smart Start Series:\n\nOur Smart Start business training classes are designed to give members opportunities to learn essential business skills that will help grown their organization\, create efficiencies and maximize customer engagement. Each Smart Start begins early in the day and lasts no longer than 60 minutes.
X-ALT-DESC;FMTTYPE=text/html:<div style="caret-color: rgb(0\, 0\, 0)\; color: rgb(0\, 0\, 0)\; font-size: 12pt\; margin: 0px\; padding: 0px\; border: 0px\; font-family: Calibri\, Arial\, Helvetica\, sans-serif\; font-stretch: inherit\; line-height: inherit\; vertical-align: baseline\;"><span style="font-family:verdana\;"><span style="font-size:22px\;"><strong>Leveraging LinkedIn for Business</strong></span></span></div>\n\n<div style="caret-color: rgb(0\, 0\, 0)\; color: rgb(0\, 0\, 0)\; font-size: 12pt\; margin: 0px\; padding: 0px\; border: 0px\; font-family: Calibri\, Arial\, Helvetica\, sans-serif\; font-stretch: inherit\; line-height: inherit\; vertical-align: baseline\;">&nbsp\;</div>\n\n<div style="caret-color: rgb(0\, 0\, 0)\; color: rgb(0\, 0\, 0)\; font-size: 12pt\; margin: 0px\; padding: 0px\; border: 0px\; font-family: Calibri\, Arial\, Helvetica\, sans-serif\; font-stretch: inherit\; line-height: inherit\; vertical-align: baseline\;"><span style="font-family:verdana\;"><span style="font-size:16px\;">Please join Training Specialist Dale Versteegen from Ohio Means Jobs\, as he guides us through practical steps for leveraging LinkedIn for business. As a professional social network\, LinkedIn is the ideal platform to build meaningful business connections and expand your company&#39\;s online visibility. In this 1 hour free workshop via Zoom\, Dale will guide us through: &nbsp\;&nbsp\;</span></span><br />\n&nbsp\;</div>\n\n<div style="caret-color: rgb(0\, 0\, 0)\; color: rgb(0\, 0\, 0)\; font-size: 12pt\; margin: 0px\; padding: 0px\; border: 0px\; font-family: Calibri\, Arial\, Helvetica\, sans-serif\; font-stretch: inherit\; line-height: inherit\; vertical-align: baseline\;">\n<ol style="font-size: 14px\; margin-bottom: 0in\; margin-top: 0in\;" type="1">\n	<li class="x_x_x_MsoListParagraph" style="margin: 0in 0in 0.0001pt\; font-size: 11pt\; font-family: Calibri\, sans-serif\;"><span style="font-family:verdana\;"><span style="font-size:16px\;">Setting up a LinkedIn page for businesses</span></span></li>\n	<li class="x_x_x_MsoListParagraph" style="margin: 0in 0in 0.0001pt\; font-size: 11pt\; font-family: Calibri\, sans-serif\;"><span style="font-family:verdana\;"><span style="font-size:16px\;">Building credibility online</span></span></li>\n	<li class="x_x_x_MsoListParagraph" style="margin: 0in 0in 0.0001pt\; font-size: 11pt\; font-family: Calibri\, sans-serif\;"><span style="font-family:verdana\;"><span style="font-size:16px\;">Optimizing our outreach</span></span></li>\n</ol>\n\n<div class="x_x_x_MsoListParagraph" style="margin: 0in 0in 0.0001pt\; font-size: 11pt\; font-family: Calibri\, sans-serif\;"><br />\n<span style="font-size:14px\;"><span style="font-family:verdana\;">FREE Event via Zoom (link will be sent week of event date)</span></span><br />\n&nbsp\;\n<div _mce_style="color: #000000\; font-size: 14pt\; font-family: Arial\, Helvetica\, sans-serif\; text-align: left\;" align="left" style="font-family: Arial\, Helvetica\, sans-serif\; background-color: rgb(255\, 255\, 255)\; font-size: 14pt\;"><span style="font-family:verdana\;"><span style="font-size:16px\;"><span _mce_style="text-decoration: underline\;" style="text-decoration-line: underline\;">About the NMCCA Smart Start Series:</span></span></span></div>\n\n<div _mce_style="font-family: Arial\, Helvetica\, sans-serif\; text-align: left\; color: #000000\; font-size: 18pt\;" align="left" style="font-family: Arial\, Helvetica\, sans-serif\; font-size: 18pt\; background-color: rgb(255\, 255\, 255)\;"><span style="font-family:verdana\;"><span style="font-size:14px\;"><span _mce_style="font-size: 14pt\;">Our Smart Start business training classes are designed to give members opportunities to learn essential business skills that will help grown their organization\, create&nbsp\;</span><span _mce_style="font-size: 14pt\;">efficiencies</span><span _mce_style="font-size: 14pt\;">&nbsp\;and maximize customer&nbsp\;</span><span _mce_style="font-size: 14pt\;">engagement</span><span _mce_style="font-size: 14pt\;">. Each Smart Start begins early in the day and lasts no longer than 60 minutes.</span></span></span></div>\n</div>\n</div>\n
LOCATION:
UID:e.160.2865
SEQUENCE:3
DTSTAMP:20260420T085151Z
URL:https://members.nmccalliance.com/events/details/smart-start-creating-a-great-linkedin-business-page-2865
END:VEVENT

END:VCALENDAR
