BEGIN:VCALENDAR
VERSION:2.0
PRODID:-//ChamberMaster//Event Calendar 2.0//EN
METHOD:PUBLISH
X-PUBLISHED-TTL:P3D
REFRESH-INTERVAL:P3D
CALSCALE:GREGORIAN
BEGIN:VEVENT
DTSTART:20210604T120000Z
DTEND:20210604T130000Z
X-MICROSOFT-CDO-ALLDAYEVENT:FALSE
SUMMARY:Smart Start: Managing Emotions in the Workplace
DESCRIPTION:Managing Emotions in the Workplace\n\n \n\nEmpathy became a leadership necessity based on the events of the last year. We know that the difference between good leaders and great leaders is emotional intelligence\, not IQ. Learning how your emotions affect others and how to manage the emotions of others can create positive outcomes around the employee experience. We will discuss the business impact of improving your emotional intelligence and how to do it with Angie Mosher\,  Senior Organizational Development Consultant from DS Benefits Group\, a OneDigital Company.
X-ALT-DESC;FMTTYPE=text/html:<div style="margin: 0px\; padding: 0px\; border: 0px\; font-stretch: inherit\; line-height: inherit\; vertical-align: baseline\;">\n<p class="x_x_MsoNormal" style="caret-color: rgb(0\, 0\, 0)\; color: rgb(32\, 31\, 30)\; font-family: Calibri\, sans-serif\; font-size: 11pt\; font-style: inherit\; font-variant-caps: inherit\; margin: 0in\;"><b><span style="font-size:22px\;">Managing Emotions in the Workplace</span></b><br />\n&nbsp\;</p>\n\n<p class="x_x_MsoNormal" style="margin: 0in\;"><span style="caret-color: rgb(0\, 0\, 0)\; color: rgb(32\, 31\, 30)\; font-family: Calibri\, sans-serif\; font-size: 18px\; font-style: inherit\; font-variant-caps: inherit\;">Empathy became a leadership necessity based on the events of the last year. We know that the difference between good leaders and great leaders is emotional intelligence\, not IQ. Learning how your emotions affect others and how to manage the emotions of others can create positive outcomes around the employee experience. We will discuss the business impact of improving your emotional intelligence and how to do it with Angie&nbsp\;</span><font color="#201f1e" face="Calibri\, sans-serif" size="4"><span style="caret-color: rgb(0\, 0\, 0)\;">Mosher\, &nbsp\;Senior Organizational Development Consultant from DS Benefits Group\, a&nbsp\;OneDigital Company.</span></font></p>\n</div>\n\n<div style="caret-color: rgb(0\, 0\, 0)\; color: inherit\; font-family: inherit\; font-style: inherit\; font-variant-caps: inherit\; margin: 0px\; padding: 0px\; border: 0px\; font-size: inherit\; font-stretch: inherit\; line-height: inherit\; vertical-align: baseline\;">&nbsp\;</div>\n
LOCATION:
UID:e.160.2867
SEQUENCE:3
DTSTAMP:20260420T051517Z
URL:https://members.nmccalliance.com/events/details/smart-start-managing-emotions-in-the-workplace-2867
END:VEVENT

END:VCALENDAR
