BEGIN:VCALENDAR
VERSION:2.0
PRODID:-//ChamberMaster//Event Calendar 2.0//EN
METHOD:PUBLISH
X-PUBLISHED-TTL:P3D
REFRESH-INTERVAL:P3D
CALSCALE:GREGORIAN
BEGIN:VEVENT
DTSTART:20110308T213000Z
DTEND:20110309T010000Z
X-MICROSOFT-CDO-ALLDAYEVENT:FALSE
SUMMARY:Soup and All That Jazz
DESCRIPTION:Soups On at 5\;30pm local Medina County Restaurants will be there with their best! Music till 8pm To benifit non profit Faith in Action.
X-ALT-DESC;FMTTYPE=text/html:Soups On at 5\;30pm local Medina County Restaurants will be there with their best! Music till 8pm To benifit non profit Faith in Action.
LOCATION:Weymouth Country Club
UID:e.160.1660
SEQUENCE:3
DTSTAMP:20260423T235251Z
URL:https://members.nmccalliance.com/events/details/soup-and-all-that-jazz-03-08-2011-1660
END:VEVENT

END:VCALENDAR
