BEGIN:VCALENDAR
VERSION:2.0
PRODID:-//ChamberMaster//Event Calendar 2.0//EN
METHOD:PUBLISH
X-PUBLISHED-TTL:P3D
REFRESH-INTERVAL:P3D
CALSCALE:GREGORIAN
BEGIN:VEVENT
DTSTART:20140210T130000Z
DTEND:20140210T143000Z
X-MICROSOFT-CDO-ALLDAYEVENT:FALSE
SUMMARY:Special Meeting with Cleveland Port Authority
DESCRIPTION:Mark your Calendars for a Special Meeting \n\n \n\n \n\nThe Greater Medina Chamber of Commerce\, in cooperation with the Medina County Economic Development Corp. and the Chambers of Commerce of Medina County\, \n\nwill host a special meeting with the \n\nCleveland Port Authority and NEOTEC regarding the new shipping service between Cleveland and Europe.\n\n \n\nThe Cleveland-Europe Express is an all-water liner service that will move cargo\, both containerized and non-containerized\, between the Port of Cleveland and the Port of Antwerp.  This service will better connect Ohio companies with the European heartland.
X-ALT-DESC;FMTTYPE=text/html:<strong><span style="color:#000080\;"><span style="font-family:arial\,sans-serif\;"><span style="font-size:12.0pt\;">Mark your Calendars for a Special Meeting&nbsp\;</span></span></span></strong><br />\n&nbsp\;<br />\n&nbsp\;<br />\n<span style="font-family:arial\,sans-serif\;"><span style="font-size:12.0pt\;">The Greater Medina Chamber of Commerce\, in cooperation with the Medina County Economic Development Corp. and the Chambers of Commerce of Medina County\, </span></span><br />\n<span style="font-family:arial\,sans-serif\;"><span style="font-size:12.0pt\;">will host a special meeting with the </span></span><br />\n<span style="font-family:arial\,sans-serif\;"><span style="font-size:12.0pt\;">Cleveland Port Authority and NEOTEC regarding the new shipping service between Cleveland and Europe.</span></span><br />\n&nbsp\;<br />\n<span style="font-family:arial\,sans-serif\;"><span style="font-size:12.0pt\;">The Cleveland-Europe Express is an all-water liner service that will move cargo\, both containerized and non-containerized\, between the Port of Cleveland and the Port of Antwerp.&nbsp\; This service will better connect Ohio companies with the European heartland.</span></span><br />\n&nbsp\;<br />\n<br />\n
LOCATION:Medina County University Center Room 313 6300 Technology Lane Medina\, Ohio
UID:e.160.2059
SEQUENCE:3
DTSTAMP:20260421T154009Z
URL:https://members.nmccalliance.com/events/details/special-meeting-with-cleveland-port-authority-02-10-2014-2059
END:VEVENT

END:VCALENDAR
