BEGIN:VCALENDAR
VERSION:2.0
PRODID:-//ChamberMaster//Event Calendar 2.0//EN
METHOD:PUBLISH
X-PUBLISHED-TTL:P3D
REFRESH-INTERVAL:P3D
CALSCALE:GREGORIAN
BEGIN:VEVENT
DTSTART:20110131T123000Z
DTEND:20110131T133000Z
X-MICROSOFT-CDO-ALLDAYEVENT:FALSE
SUMMARY:St. Ambrose ~ Civic Leadership Breakfast
DESCRIPTION:Celebrate Catholic Schools Week as our guest at the Civic Leadership Breakfast with remarks by Speaker of the House William Batchelder
X-ALT-DESC;FMTTYPE=text/html:Celebrate Catholic Schools Week as our guest at the Civic Leadership Breakfast&nbsp\;with remarks by Speaker of the House William Batchelder
LOCATION:Saint Ambrose Parish and School\, Hilkert Hall 929 Pearl Road\, Brunswick\, Ohio 44212
UID:e.160.1587
SEQUENCE:3
DTSTAMP:20260424T032946Z
URL:https://members.nmccalliance.com/events/details/st-ambrose-civic-leadership-breakfast-01-31-2011-1587
END:VEVENT

END:VCALENDAR
