BEGIN:VCALENDAR
VERSION:2.0
PRODID:-//ChamberMaster//Event Calendar 2.0//EN
METHOD:PUBLISH
X-PUBLISHED-TTL:P3D
REFRESH-INTERVAL:P3D
CALSCALE:GREGORIAN
BEGIN:VEVENT
DTSTART:20090115T163000Z
DTEND:20090115T180000Z
X-MICROSOFT-CDO-ALLDAYEVENT:FALSE
SUMMARY:Survival Skills in a Tough Economy
DESCRIPTION:Discover skills you need to survive in the current economy\, and equip yourself to emerge as a stonger business!  Join us for this 5-part series of brown-bag lunches with topics that are relevant to your business TODAY!  January Topic:  Practical strategies for survival and growth\, from a local business owner who has been there!
X-ALT-DESC;FMTTYPE=text/html:<div>Discover skills you need to survive in the current economy\, and equip yourself to emerge as a stonger business!&nbsp\; Join us for this 5-part series of brown-bag lunches with topics that are relevant to your business TODAY!</div><div>&nbsp\;</div><div>&nbsp\;</div><div>January Topic:&nbsp\; Practical strategies for survival and growth\, from a local business owner who has been there!</div>
LOCATION:Medina County University Center6300 Technology LaneMedina\, OH 44256
UID:e.160.734
SEQUENCE:3
DTSTAMP:20260426T035029Z
URL:https://members.nmccalliance.com/events/details/survival-skills-in-a-tough-economy-01-15-2009-734
END:VEVENT

END:VCALENDAR
