BEGIN:VCALENDAR
VERSION:2.0
PRODID:-//ChamberMaster//Event Calendar 2.0//EN
METHOD:PUBLISH
X-PUBLISHED-TTL:P3D
REFRESH-INTERVAL:P3D
CALSCALE:GREGORIAN
BEGIN:VEVENT
DTSTART:20090319T153000Z
DTEND:20090319T170000Z
X-MICROSOFT-CDO-ALLDAYEVENT:FALSE
SUMMARY:Survival Skills in a Tough Economy
DESCRIPTION:Discover skills you need to survive in the current economy\, and equip yourself to emerge as a stonger business!  Join us for this 5-part series of brown-bag lunches with topics that are relevant to your business TODAY! March Topic:  Marketing tactics that you can use right away!
X-ALT-DESC;FMTTYPE=text/html:<div>Discover skills you need to survive in the current economy\, and equip yourself to emerge as a stonger business!&nbsp\; Join us for this 5-part series of brown-bag lunches with topics that are relevant to your business TODAY!</div><div>&nbsp\;</div><div>March&nbsp\;Topic:&nbsp\;&nbsp\;Marketing tactics that you can use right away!</div>
LOCATION:Midpoint Campus Center50 Pearl RoadBrunswick\, OH 44212
UID:e.160.745
SEQUENCE:3
DTSTAMP:20260426T021659Z
URL:https://members.nmccalliance.com/events/details/survival-skills-in-a-tough-economy-03-19-2009-745
END:VEVENT

END:VCALENDAR
