BEGIN:VCALENDAR
VERSION:2.0
PRODID:-//ChamberMaster//Event Calendar 2.0//EN
METHOD:PUBLISH
X-PUBLISHED-TTL:P3D
REFRESH-INTERVAL:P3D
CALSCALE:GREGORIAN
BEGIN:VEVENT
DTSTART:20090521T153000Z
DTEND:20090521T170000Z
X-MICROSOFT-CDO-ALLDAYEVENT:FALSE
SUMMARY:Survival Skills in a Tough Economy
DESCRIPTION:Discover skills you need to survive in the current economy\, and equip yourself to emerge as a stonger business!  Join us for this 5-part series of brown-bag lunches with topics that are relevant to your business TODAY!  May Topic: Networking skills for maximum impact
X-ALT-DESC;FMTTYPE=text/html:<div>Discover skills you need to survive in the current economy\, and equip yourself to emerge as a stonger business!&nbsp\; Join us for this 5-part series of brown-bag lunches with topics that are relevant to your business TODAY!</div><div>&nbsp\;</div><div>&nbsp\;</div><div>May Topic: Networking skills for maximum impact</div>
LOCATION:Medina County University Center6300 Technology LaneMedina\, OH 44256
UID:e.160.747
SEQUENCE:3
DTSTAMP:20260425T214648Z
URL:https://members.nmccalliance.com/events/details/survival-skills-in-a-tough-economy-05-21-2009-747
END:VEVENT

END:VCALENDAR
