BEGIN:VCALENDAR
VERSION:2.0
PRODID:-//ChamberMaster//Event Calendar 2.0//EN
METHOD:PUBLISH
X-PUBLISHED-TTL:P3D
REFRESH-INTERVAL:P3D
CALSCALE:GREGORIAN
BEGIN:VEVENT
DTSTART;VALUE=DATE:20090403
DTEND;VALUE=DATE:20090406
TRANSP:TRANSPARENT
X-MICROSOFT-CDO-ALLDAYEVENT:TRUE
SUMMARY:Swim for Diabetes
DESCRIPTION:24th Annual Verizon Wireless SWIM FOR DIABETES. This event will take place April 3\, 4\, & 5 at 69 indoor pools throughout Northeast Ohio\, including the Brunswick Community Recreation & Fitness Center on Sunday\, April 5\, from 9 to 11:30 am
X-ALT-DESC;FMTTYPE=text/html:<p>24th Annual Verizon Wireless SWIM FOR DIABETES.&nbsp\;</p><p>This event will take place April 3\, 4\, &amp\; 5 at 69 indoor pools throughout Northeast Ohio\, including the Brunswick Community Recreation &amp\; Fitness Center on Sunday\, April 5\, from 9 to 11:30 am</p>
LOCATION:Brunswick Recreation and Fitness Center3637 Center RoadBrunswick\, OH 44212
UID:e.160.795
SEQUENCE:3
DTSTAMP:20260426T003905Z
URL:https://members.nmccalliance.com/events/details/swim-for-diabetes-04-03-2009-795
END:VEVENT

END:VCALENDAR
