BEGIN:VCALENDAR
VERSION:2.0
PRODID:-//ChamberMaster//Event Calendar 2.0//EN
METHOD:PUBLISH
X-PUBLISHED-TTL:P3D
REFRESH-INTERVAL:P3D
CALSCALE:GREGORIAN
BEGIN:VEVENT
DTSTART:20140201T150000Z
DTEND:20140215T000000Z
X-MICROSOFT-CDO-ALLDAYEVENT:FALSE
SUMMARY:Valentine's Day Sale
DESCRIPTION:Come into Corder's Jewelers\, during the first two weeks of February and choose that special Diamond or Gemstone jewelry piece for your very special Valentine's.  Corder's Jewelers is offering additional discounts and specials for Valentine's Day gifts.  Specials and Discounts could add up to 70% off of select jewelry pieces.  Diamonds and Gemstones of every shape\, size and color\, earrings\, pendants and bracelets all set at discounted prices.  And right in time for Valentine's Day 2014. \n\nWe can customize or repair any piece of jewelry in our on-site repair department and have it finished for Valentine's Day but time is running out so hurry in today.  We pay top dollar for broken or unwanted jewelry that can also be used as trade for your special Valentine's Day gift.  Call us at (330) 225-5757 today and schedule your pre-selection appointment.  We will be OPEN Sunday\, Feb. 9th from 10am to 5pm\, for those last minute shoppers.  Corder's Jewelers\, where your dreams come true.
X-ALT-DESC;FMTTYPE=text/html:Come into Corder&#39\;s Jewelers\, during the first two weeks of February and choose that special Diamond or Gemstone jewelry piece for your very special Valentine&#39\;s.&nbsp\; Corder&#39\;s Jewelers is offering additional discounts and specials for Valentine&#39\;s Day gifts.&nbsp\; Specials and Discounts could add up to 70% off of select jewelry pieces.&nbsp\; Diamonds and Gemstones of every shape\, size and color\, earrings\, pendants and bracelets all set at discounted prices.&nbsp\; And right in time for Valentine&#39\;s Day 2014.&nbsp\;<br />\nWe can customize or repair any piece of jewelry in our on-site repair department and have it finished for Valentine&#39\;s Day but time is running out so hurry in today.&nbsp\; We pay top dollar for broken or unwanted jewelry that can also be used as trade for your special Valentine&#39\;s Day gift.&nbsp\; Call us at (330) 225-5757 today and schedule your pre-selection appointment.&nbsp\; We will be OPEN Sunday\, Feb. 9th from 10am to 5pm\, for those last minute shoppers.&nbsp\; Corder&#39\;s Jewelers\, where your dreams come true.<br type="_moz" />\n
LOCATION:3841 Center Road\, Brunswick Ohio
UID:e.160.2063
SEQUENCE:3
DTSTAMP:20260421T140555Z
URL:https://members.nmccalliance.com/events/details/valentine-s-day-sale-02-01-2014-2063
END:VEVENT

END:VCALENDAR
