BEGIN:VCALENDAR
VERSION:2.0
PRODID:-//ChamberMaster//Event Calendar 2.0//EN
METHOD:PUBLISH
X-PUBLISHED-TTL:P3D
REFRESH-INTERVAL:P3D
CALSCALE:GREGORIAN
BEGIN:VEVENT
DTSTART:20110127T230000Z
DTEND:20110128T003000Z
X-MICROSOFT-CDO-ALLDAYEVENT:FALSE
SUMMARY:VIP Party
DESCRIPTION:Please join us for hot food\, networking\, giveaways and exclusive specials on KGC Computers products and services. Catered by Gina Kokkas of The Grille. Special Guest Nick Mattison of Clear 4G+ Mobile Internet.
X-ALT-DESC;FMTTYPE=text/html:Please join us for hot food\, networking\, giveaways and exclusive specials on KGC Computers products and services. Catered by Gina Kokkas of The Grille. Special Guest Nick Mattison of Clear 4G+ Mobile Internet.<br />\n<br />\n
LOCATION:3851 Center Road Brunswick\, Ohio 44212
UID:e.160.1586
SEQUENCE:3
DTSTAMP:20260424T021404Z
URL:https://members.nmccalliance.com/events/details/vip-party-01-27-2011-1586
END:VEVENT

END:VCALENDAR
