BEGIN:VCALENDAR
VERSION:2.0
PRODID:-//ChamberMaster//Event Calendar 2.0//EN
METHOD:PUBLISH
X-PUBLISHED-TTL:P3D
REFRESH-INTERVAL:P3D
CALSCALE:GREGORIAN
BEGIN:VEVENT
DTSTART:20120515T120000Z
DTEND:20120515T133000Z
X-MICROSOFT-CDO-ALLDAYEVENT:FALSE
SUMMARY:Websites and SEO for Business
DESCRIPTION:Websites and Search Engine Optimization for business A free workshop for local business owners\n\n\n\nWhat are the latest trends in marketing? How should I be using my website? What is Search Engine Optimization? The City of Brunswick\, in conjunction with the Brunswick Area Chamber of Commerce\, announces a free small business workshop in the new GROWING YOUR BUSINESS 2012 series. This workshop will be held on Tuesday\, May 15 from 8-9:30am at the Brunswick Recreation Center. \n\n\n\n\n	Tuesday morning\, May 15\, from 8-9:30am\n\n	3637 Center Rd\, Brunswick\, OH 44212\n\n	 \n\n	The subject will be a marketing update - websites and SEO for your business. We will discuss the different website styles and home pages and how to optimize your content to promote your business.\n\n	\n\n	Patricia Hanek - Vice Mayor\, said "The City of Brunswick introduced these programs in 2012 to continue or business-friendly agenda. We look to assist our local business to grow and add obs in 2012."\n\n	\n\n	All small business owners and their employees are welcome. Bring  your questions for our expert. The Brunswick Recreation Center is located at 3637 Center Rd.\, Brunswick\, OH 44212.\n\n	\n\n	Seating for this session is limited. RSVP to tsmith@brunswick.oh.us\n\n	Subject line: May 15 or call 330.558.6875\n\n	\n\n	Presenter - Joe Archacki - President and founder Mainstreet Growth LLC providing marketing for growth to area small businesses. Joe is a past executive for business development for a Fortune 200 company. Check him out at www.mainstreetgrowth.com\n\n	\n\n	Tim Smith - Economic Development Manager\, "We feel that our number one economic development goal is assisting our existing Brunswick business in survival and growth."\n\n	\n\n	This is the second of a series of marketing workshops being held in Brunswick.
X-ALT-DESC;FMTTYPE=text/html:<span style="font-family: Arial\; text-align: left\; "><span style="font-family: arial\, helvetica\, sans-serif\; "><strong>Websites and Search Engine Optimization for business A free workshop for local business owners</strong><br />\n<br />\nWhat are the latest trends in marketing? How should I be using my website? What is Search Engine Optimization? The City of Brunswick\, in conjunction with the Brunswick Area Chamber of Commerce\, announces a free small business workshop in the new GROWING YOUR BUSINESS 2012 series. This workshop will be held on Tuesday\, May 15 from 8-9:30am at the Brunswick Recreation Center.&nbsp\;</span></span><br style="font-family: Arial\; font-size: 13px\; text-align: left\; " />\n<br style="font-family: Arial\; font-size: 13px\; text-align: left\; " />\n<div style="font-family: Arial\; font-size: 13px\; text-align: center\; ">\n	<span style="font-size: 12px\; "><span style="font-family: arial\, helvetica\, sans-serif\; "><strong>Tuesday morning\, May 15\, from 8-9:30am<br />\n	3637 Center Rd\, Brunswick\, OH 44212</strong></span></span><br />\n	&nbsp\;</div>\n<div style="font-family: Arial\; font-size: 13px\; text-align: left\; ">\n	<span style="font-size: 12px\; "><span style="font-family: arial\, helvetica\, sans-serif\; ">The subject will be a marketing update - websites and SEO for your business. We will discuss the different website styles and home pages and how to optimize your content to promote your business.<br />\n	<br />\n	Patricia Hanek - Vice Mayor\, said &quot\;The City of Brunswick introduced these programs in 2012 to continue or business-friendly agenda. We look to assist our local business to grow and add obs in 2012.&quot\;<br />\n	<br />\n	All small business owners and their employees are welcome. Bring &nbsp\;your questions for our expert. The Brunswick Recreation Center is located at 3637 Center Rd.\, Brunswick\, OH 44212.<br />\n	<br />\n	Seating for this session is limited. RSVP to tsmith@brunswick.oh.us<br />\n	Subject line: May 15 or call 330.558.6875<br />\n	<br />\n	Presenter - Joe Archacki - President and founder Mainstreet Growth LLC providing marketing for growth to area small businesses. Joe is a past executive for business development for a Fortune 200 company. Check him out at www.mainstreetgrowth.com<br />\n	<br />\n	Tim Smith - Economic Development Manager\, &quot\;We feel that our number one economic development goal is assisting our existing Brunswick business in survival and growth.&quot\;<br />\n	<br />\n	This is the second of a series of marketing workshops being held in Brunswick.&nbsp\;</span></span></div>\n
LOCATION:Brunswick Recreation Center 3637 Center Rd. Brunswick\, OH 44212
UID:e.160.1744
SEQUENCE:3
DTSTAMP:20260423T001849Z
URL:https://members.nmccalliance.com/events/details/websites-and-seo-for-business-05-15-2012-1744
END:VEVENT

END:VCALENDAR
