BEGIN:VCALENDAR
VERSION:2.0
PRODID:-//ChamberMaster//Event Calendar 2.0//EN
METHOD:PUBLISH
X-PUBLISHED-TTL:P3D
REFRESH-INTERVAL:P3D
CALSCALE:GREGORIAN
BEGIN:VEVENT
DTSTART:20101020T153000Z
DTEND:20101020T170000Z
X-MICROSOFT-CDO-ALLDAYEVENT:FALSE
SUMMARY:Williams on the Lake Networking Luncheon
DESCRIPTION:Catered by Williams on the Lake Lunch:      11:30 AM to 12:00 PMProgram: 12:00 PM to 1:00 PM Speaker: Medina County Commissioner\, Steve Hambley on What the commissioners mean to area businesses? and  What Commissioner Hambley's position on NOACA board means to area businesses?.
X-ALT-DESC;FMTTYPE=text/html:<div><div><div>Catered by Williams on the Lake</div><div>&nbsp\;</div><div>Lunch:&nbsp\;&nbsp\;&nbsp\;&nbsp\;&nbsp\; 11:30 AM to 12:00 PM</div><div>Program: 12:00 PM to 1:00 PM</div><div>&nbsp\;</div><div>Speaker: Medina County Commissioner\, Steve Hambley on What the commissioners mean to area businesses?&nbsp\;and &nbsp\;What Commissioner Hambley's position on NOACA board means to area businesses?.</div></div></div>
LOCATION:Williams on the Lake787 Lafayette RoadMedina OH 44256
UID:e.160.1287
SEQUENCE:3
DTSTAMP:20260424T184621Z
URL:https://members.nmccalliance.com/events/details/williams-on-the-lake-networking-luncheon-10-20-2010-1287
END:VEVENT

END:VCALENDAR
