BEGIN:VCALENDAR
VERSION:2.0
PRODID:-//ChamberMaster//Event Calendar 2.0//EN
METHOD:PUBLISH
X-PUBLISHED-TTL:P3D
REFRESH-INTERVAL:P3D
CALSCALE:GREGORIAN
BEGIN:VEVENT
DTSTART:20120125T123000Z
DTEND:20120125T143000Z
X-MICROSOFT-CDO-ALLDAYEVENT:FALSE
SUMMARY:Women in Business Event - January 2012
DESCRIPTION:The presenter for the Women in Business Breakfast will be Margey Lowery\, the owner of  Ladies Who Launch Cleveland/Akron. As facilitator for Ladies Who Launch workshops\, Margey provides educational and promotional opportunities to female entrepreneurs and connect like-minded women to each other.
X-ALT-DESC;FMTTYPE=text/html:<span class="cm_editor_fix"><span style="font-size: 12px"><span style="font-family: arial">The presenter for the Women in Business Breakfast will be Margey Lowery\, the owner of &nbsp\;Ladies Who Launch Cleveland/Akron. As facilitator for Ladies Who Launch workshops\, Margey&nbsp\;provides educational and promotional opportunities to female entrepreneurs and connect like-minded women to each other. </span></span></span>
LOCATION:Holiday Inn Strongsville 15471 Royalton Road Strongsville OH 44136
UID:e.160.1691
SEQUENCE:3
DTSTAMP:20260423T065605Z
URL:https://members.nmccalliance.com/events/details/women-in-business-event-january-2012-01-25-2012-1691
END:VEVENT

END:VCALENDAR
