BEGIN:VCALENDAR
VERSION:2.0
PRODID:-//ChamberMaster//Event Calendar 2.0//EN
METHOD:PUBLISH
X-PUBLISHED-TTL:P3D
REFRESH-INTERVAL:P3D
CALSCALE:GREGORIAN
BEGIN:VEVENT
DTSTART:20140320T210000Z
DTEND:20140320T233000Z
X-MICROSOFT-CDO-ALLDAYEVENT:FALSE
SUMMARY:YPA 3/2014
DESCRIPTION:Young Professionals Association  meeting
X-ALT-DESC;FMTTYPE=text/html:Young Professionals Association &nbsp\;meeting
LOCATION:Romeo's O.T. Medina Ohio
UID:e.160.2075
SEQUENCE:3
DTSTAMP:20260421T123300Z
URL:https://members.nmccalliance.com/events/details/ypa-3-2014-03-20-2014-2075
END:VEVENT

END:VCALENDAR
