BEGIN:VCALENDAR
VERSION:2.0
PRODID:-//ChamberMaster//Event Calendar 2.0//EN
METHOD:PUBLISH
X-PUBLISHED-TTL:P3D
REFRESH-INTERVAL:P3D
CALSCALE:GREGORIAN
BEGIN:VEVENT
DTSTART:20140417T210000Z
DTEND:20140417T233000Z
X-MICROSOFT-CDO-ALLDAYEVENT:FALSE
SUMMARY:YPA 4/2014
DESCRIPTION:Young Professionals Association Meeting
X-ALT-DESC;FMTTYPE=text/html:Young Professionals Association Meeting&nbsp\;&nbsp\;&nbsp\;&nbsp\;
LOCATION:The Winking Lizard Brunswick\, Ohio
UID:e.160.2076
SEQUENCE:3
DTSTAMP:20260421T111624Z
URL:https://members.nmccalliance.com/events/details/ypa-4-2014-04-17-2014-2076
END:VEVENT

END:VCALENDAR
