BEGIN:VCALENDAR
VERSION:2.0
PRODID:-//ChamberMaster//Event Calendar 2.0//EN
METHOD:PUBLISH
X-PUBLISHED-TTL:P3D
REFRESH-INTERVAL:P3D
CALSCALE:GREGORIAN
BEGIN:VEVENT
DTSTART:20140513T210000Z
DTEND:20140513T233000Z
X-MICROSOFT-CDO-ALLDAYEVENT:FALSE
SUMMARY:YPA 5/2014
DESCRIPTION:Young Professionals Association
X-ALT-DESC;FMTTYPE=text/html:Young Professionals Association
LOCATION:Casa Del Rio Wadsworth\, Ohio
UID:e.160.2077
SEQUENCE:3
DTSTAMP:20260421T101720Z
URL:https://members.nmccalliance.com/events/details/ypa-5-2014-05-13-2014-2077
END:VEVENT

END:VCALENDAR
