BEGIN:VCALENDAR
VERSION:2.0
PRODID:-//ChamberMaster//Event Calendar 2.0//EN
METHOD:PUBLISH
X-PUBLISHED-TTL:P3D
REFRESH-INTERVAL:P3D
CALSCALE:GREGORIAN
BEGIN:VEVENT
DTSTART:20090916T213000Z
DTEND:20090916T233000Z
X-MICROSOFT-CDO-ALLDAYEVENT:FALSE
SUMMARY:YPA Cornhole Tournament
DESCRIPTION:YPA Cornhole TournamentatLagerheads2832 Abbeyville Road\, Medina Wednesday\, September 16th 5:30 - 6:00 pm Networking6:00 - 7:30 pm Tournament Register online at www.medinaohchamber.com or by calling the Greater Medina Chamber of Commerce at 330-723-8773
X-ALT-DESC;FMTTYPE=text/html:<div style="text-align: center"><span style="font-size: medium">YPA </span></div><div style="text-align: center"><span style="font-size: medium">Cornhole Tournament</span></div><div style="text-align: center">at</div><div style="text-align: center"><span style="font-size: medium">Lagerheads</span></div><div style="text-align: center"><span style="font-size: medium">2832 Abbeyville Road\, Medina</span></div><div style="text-align: center">&nbsp\;</div><div style="text-align: center"><span style="font-size: medium">Wednesday\, September 16th</span></div><div style="text-align: center">&nbsp\;</div><div style="text-align: center"><span style="font-size: medium">5:30 - 6:00 pm Networking</span></div><div style="text-align: center"><span style="font-size: medium">6:00 - 7:30 pm Tournament</span></div><div style="text-align: center">&nbsp\;</div><div style="text-align: center"><span style="font-size: medium">Register online at <a href="http://www.medinaohchamber.com">www.medinaohchamber.com</a> or by calling the Greater Medina Chamber of Commerce at 330-723-8773</span></div>
LOCATION:Lagerheads2832 Abbeyville RoadMedina\, OH 44256330-725-1947
UID:e.160.816
SEQUENCE:3
DTSTAMP:20260425T154234Z
URL:https://members.nmccalliance.com/events/details/ypa-cornhole-tournament-09-16-2009-816
END:VEVENT

END:VCALENDAR
