BEGIN:VCALENDAR
VERSION:2.0
PRODID:-//ChamberMaster//Event Calendar 2.0//EN
METHOD:PUBLISH
X-PUBLISHED-TTL:P3D
REFRESH-INTERVAL:P3D
CALSCALE:GREGORIAN
BEGIN:VEVENT
DTSTART:20110921T213000Z
DTEND:20110921T233000Z
X-MICROSOFT-CDO-ALLDAYEVENT:FALSE
SUMMARY:YPA Event - September 2011
DESCRIPTION:Young Professionals Association - click HERE for more information.\n\n\n\nThis event is a cornhole tournament.\n\n\n\nClick  HERE to register for the event.
X-ALT-DESC;FMTTYPE=text/html:Young Professionals Association - click <a href="http://www.medinacountyypa.com/">HERE </a>for more information.<br />\n<br />\nThis event is a cornhole tournament.<br />\n<br />\nClick<span _fck_bookmark="1" style="display: none">&nbsp\;</span><span _fck_bookmark="1" style="display: none">&nbsp\;</span><a href="https://secure2.chambermaster.com/directory/jsp/events/dlg/Public_AddReg.jsp?ccid=113&amp\;eventid=882">HERE</a> to register for the event.
LOCATION:Location to be determined. Brunswick
UID:e.160.1669
SEQUENCE:3
DTSTAMP:20260423T131941Z
URL:https://members.nmccalliance.com/events/details/ypa-event-september-2011-09-21-2011-1669
END:VEVENT

END:VCALENDAR
