BEGIN:VCALENDAR
VERSION:2.0
PRODID:-//ChamberMaster//Event Calendar 2.0//EN
METHOD:PUBLISH
X-PUBLISHED-TTL:P3D
REFRESH-INTERVAL:P3D
CALSCALE:GREGORIAN
BEGIN:VEVENT
DTSTART;VALUE=DATE:20110617
DTEND;VALUE=DATE:20110618
TRANSP:TRANSPARENT
X-MICROSOFT-CDO-ALLDAYEVENT:TRUE
SUMMARY:YPA - Golf Outing 2011
DESCRIPTION:Young Professionals Association of Medina County\n\n\n\nFor more information on the event\, click HERE.\n\n\n\nClick HERE for information on how to participate!
X-ALT-DESC;FMTTYPE=text/html:<a href="http://www.medinacountyypa.com/">Young Professionals Association of Medina County</a><br />\n<br />\nFor more information on the event\, click <a href="http://www.medinacountyypa.com/calendar/Annual_Golf_OutingMedina_County_YPA">HERE</a>.<br />\n<br />\nClick <a href="http://www.medinacountyypa.com/images/company_assets/0A2548F7-FD93-439A-AD7D-450D6EE49AAE/GolfFlyer2011_1e91.PDF">HERE</a> for information on how to participate!
LOCATION:Shale Creek Golf Course 5420 Wolff Road Medina\, OH 44256
UID:e.160.1666
SEQUENCE:3
DTSTAMP:20260419T182625Z
URL:https://members.nmccalliance.com/events/details/ypa-golf-outing-2011-06-17-2011-1666
END:VEVENT

END:VCALENDAR
