BEGIN:VCALENDAR
VERSION:2.0
PRODID:-//ChamberMaster//Event Calendar 2.0//EN
METHOD:PUBLISH
X-PUBLISHED-TTL:P3D
REFRESH-INTERVAL:P3D
CALSCALE:GREGORIAN
BEGIN:VEVENT
DTSTART:20110816T213000Z
DTEND:20110816T233000Z
X-MICROSOFT-CDO-ALLDAYEVENT:FALSE
SUMMARY:YPA Meeting - August 2011
DESCRIPTION:Young Professionals Association - click HERE for more information.\n\n\n\nThis event is a martini mixer.\n\n\n\nClick HERE to register for the event.
X-ALT-DESC;FMTTYPE=text/html:Young Professionals Association - click <a href="http://www.medinacountyypa.com/">HERE </a>for more information.<br />\n<br />\nThis event is a martini mixer.<br />\n<br />\nClick<span _fck_bookmark="1" style="display: none">&nbsp\;</span><a href="https://secure2.chambermaster.com/directory/jsp/events/dlg/Public_AddReg.jsp?ccid=113&amp\;eventid=878">HERE</a> to register for the event.
LOCATION:Cana Wine & Martini Bar 113 W. Smith Road Medina
UID:e.160.1668
SEQUENCE:3
DTSTAMP:20260423T151411Z
URL:https://members.nmccalliance.com/events/details/ypa-meeting-august-2011-08-16-2011-1668
END:VEVENT

END:VCALENDAR
