BEGIN:VCALENDAR
VERSION:2.0
PRODID:-//ChamberMaster//Event Calendar 2.0//EN
METHOD:PUBLISH
X-PUBLISHED-TTL:P3D
REFRESH-INTERVAL:P3D
CALSCALE:GREGORIAN
BEGIN:VEVENT
DTSTART:20110714T213000Z
DTEND:20110714T233000Z
X-MICROSOFT-CDO-ALLDAYEVENT:FALSE
SUMMARY:YPA Meeting - July 2011
DESCRIPTION:Young Professionals Association - click HERE for more information.\n\n\n\nThis event is a patio party.\n\n\n\nClick  HERE to register for the event.
X-ALT-DESC;FMTTYPE=text/html:Young Professionals Association - click <a href="http://www.medinacountyypa.com/">HERE </a>for more information.<br />\n<br />\nThis event is a patio party.<br />\n<br />\nClick <span _fck_bookmark="1" style="display: none">&nbsp\;</span><a href="https://secure2.chambermaster.com/directory/jsp/events/dlg/Public_AddReg.jsp?ccid=113&amp\;eventid=877">HERE</a> to register for the event.
LOCATION:Marie's 130 E. Smokerise Dr. Wadsworth
UID:e.160.1667
SEQUENCE:3
DTSTAMP:20260423T164913Z
URL:https://members.nmccalliance.com/events/details/ypa-meeting-july-2011-07-14-2011-1667
END:VEVENT

END:VCALENDAR
