BEGIN:VCALENDAR
VERSION:2.0
PRODID:-//ChamberMaster//Event Calendar 2.0//EN
METHOD:PUBLISH
X-PUBLISHED-TTL:P3D
REFRESH-INTERVAL:P3D
CALSCALE:GREGORIAN
BEGIN:VEVENT
DTSTART:20110518T213000Z
DTEND:20110518T233000Z
X-MICROSOFT-CDO-ALLDAYEVENT:FALSE
SUMMARY:YPA Meeting - May 2011
DESCRIPTION:Young Professionals Association - click HERE for more information.\n\n\n\nThis event is a mixer.\n\n\n\nClick HERE to register for the event.
X-ALT-DESC;FMTTYPE=text/html:Young Professionals Association - click <a href="http://www.medinacountyypa.com/">HERE </a>for more information.<br />\n<br />\nThis event is a mixer.<br />\n<br />\nClick <a href="http://business.medinaohchamber.com/events/details/ypa-may-2011">HERE</a> to register for the event.
LOCATION:Beef O'brady's in Wadsworth 1090 Williams Reserve Blvd. Wadsworth\, OH
UID:e.160.1665
SEQUENCE:3
DTSTAMP:20260423T201313Z
URL:https://members.nmccalliance.com/events/details/ypa-meeting-may-2011-05-18-2011-1665
END:VEVENT

END:VCALENDAR
