BEGIN:VCALENDAR
VERSION:2.0
PRODID:-//ChamberMaster//Event Calendar 2.0//EN
METHOD:PUBLISH
X-PUBLISHED-TTL:P3D
REFRESH-INTERVAL:P3D
CALSCALE:GREGORIAN
BEGIN:VEVENT
DTSTART:20090708T210000Z
DTEND:20090708T233000Z
X-MICROSOFT-CDO-ALLDAYEVENT:FALSE
SUMMARY:YPA Networking & Social Patio Party
DESCRIPTION:YPA Networking & Social Patio Party Wednesday\, July 8\, 2009 5:30 to 7:30 pm Winking Lizard Tavern3634 Center RoadBrunswick\, OH  44212 Register online at www.medinaohchamber.comor by calling the Greater Medina Chamber of Commerce at 330-273-8773
X-ALT-DESC;FMTTYPE=text/html:<div style="text-align: center">&nbsp\;</div><div style="text-align: center"><big>YPA </big></div><div style="text-align: center"><big>Networking &amp\; Social</big></div><div style="text-align: center"><big>&nbsp\;</big></div><div style="text-align: center"><big>Patio Party</big></div><div style="text-align: center"><big>&nbsp\;</big></div><div style="text-align: center"><big>Wednesday\, July 8\, 2009</big></div><div style="text-align: center"><big>&nbsp\;</big></div><div style="text-align: center"><big>5:30 to 7:30 pm</big></div><div style="text-align: center"><big>&nbsp\;</big></div><div style="text-align: center"><big>Winking Lizard Tavern</big></div><div style="text-align: center"><big>3634 Center Road</big></div><div style="text-align: center"><big>Brunswick\, OH&nbsp\; 44212</big></div><div style="text-align: center"><big>&nbsp\;</big></div><div style="text-align: center"><big>Register online at </big><a href="http://www.medinaohchamber.com"><big>www.medinaohchamber.com</big></a></div><div style="text-align: center"><big>or by calling the Greater Medina Chamber of Commerce at 330-273-8773</big></div><div style="text-align: center"><big>&nbsp\;</big></div><div style="text-align: center">&nbsp\;</div><div style="text-align: center">&nbsp\;</div>
LOCATION:Winking Lizard Tavern3634 Center RoadBrunswick\, Ohio
UID:e.160.808
SEQUENCE:3
DTSTAMP:20260425T184821Z
URL:https://members.nmccalliance.com/events/details/ypa-networking-social-patio-party-07-08-2009-808
END:VEVENT

END:VCALENDAR
